BEGIN:VCALENDAR
VERSION:2.0
PRODID:-//SVP Wettingen //NONSGML Events //EN
CALSCALE:GREGORIAN
X-WR-CALNAME:SVP Wettingen
BEGIN:VEVENT
CREATED:20220120T050902Z
UID:1454
DTEND:20221001T120000
DTSTART:20221001T110000
DTSTAMP:20260420T082558Z
LOCATION:
DESCRIPTION:Gasthof Adler, Birmenstorf
SUMMARY:Politapéro mit Sessionsrückblick
ORGANIZER:
URL;VALUE=URI:https://www.svp-wettingen.ch/termine/politapero-mit-sessionsrueckblick-6/
TRANSP:OPAQUE
END:VEVENT
END:VCALENDAR
