BEGIN:VCALENDAR
VERSION:2.0
PRODID:-//SVP Wettingen //NONSGML Events //EN
CALSCALE:GREGORIAN
X-WR-CALNAME:SVP Wettingen
BEGIN:VEVENT
CREATED:20220120T050806Z
UID:1456
DTEND:20220618T120000
DTSTART:20220618T110000
DTSTAMP:20260426T003115Z
LOCATION:
DESCRIPTION:Gasthof Adler, Birmenstorf
SUMMARY:Politapéro mit Sessionsrückblick
ORGANIZER:
URL;VALUE=URI:https://www.svp-wettingen.ch/termine/politapero-mit-sessionsrueckblick-8/
TRANSP:OPAQUE
END:VEVENT
END:VCALENDAR
