BEGIN:VCALENDAR
VERSION:2.0
PRODID:-//SVP Wettingen //NONSGML Events //EN
CALSCALE:GREGORIAN
X-WR-CALNAME:SVP Wettingen
BEGIN:VEVENT
CREATED:20221031T132528Z
UID:1618
DTEND:20230302T200000
DTSTART:20230302T190000
DTSTAMP:20260421T231643Z
LOCATION:
DESCRIPTION: Landgasthof zum Hirschen
Brühlstrasse 15
5416 Kirchdorf
SUMMARY:Bezirksparteitag  GV SVP Bezirk Baden
ORGANIZER:
URL;VALUE=URI:https://www.svp-wettingen.ch/termine/bezirksparteitag-gv-svp-bezirk-baden/
TRANSP:OPAQUE
END:VEVENT
END:VCALENDAR
