BEGIN:VCALENDAR
VERSION:2.0
PRODID:-//SVP Wettingen //NONSGML Events //EN
CALSCALE:GREGORIAN
X-WR-CALNAME:SVP Wettingen
BEGIN:VEVENT
CREATED:20230918T021457Z
UID:1786
DTEND:20231214T200000
DTSTART:20231214T190000
DTSTAMP:20260423T145152Z
LOCATION:
DESCRIPTION:
SUMMARY:Kantonalvorstand
ORGANIZER:
URL;VALUE=URI:https://www.svp-wettingen.ch/termine/kantonalvorstand/
TRANSP:OPAQUE
END:VEVENT
END:VCALENDAR
