BEGIN:VCALENDAR
VERSION:2.0
PRODID:-//SVP Wettingen //NONSGML Events //EN
CALSCALE:GREGORIAN
X-WR-CALNAME:SVP Wettingen
BEGIN:VEVENT
CREATED:20231107T115954Z
UID:1795
DTEND:20240508T190000
DTSTART:20240508T183000
DTSTAMP:20260420T110909Z
LOCATION:Bärenmatte\, Suhr
DESCRIPTION:Sitzung des Kantonalvorstandes
SUMMARY:Kantonalvorstand
ORGANIZER:
URL;VALUE=URI:https://www.svp-wettingen.ch/termine/kantonalvorstand-2/
TRANSP:OPAQUE
END:VEVENT
END:VCALENDAR
