BEGIN:VCALENDAR
VERSION:2.0
PRODID:-//SVP Wettingen //NONSGML Events //EN
CALSCALE:GREGORIAN
X-WR-CALNAME:SVP Wettingen
BEGIN:VEVENT
CREATED:20240605T015214Z
UID:1918
DTEND:20240617T200000
DTSTART:20240617T193000
DTSTAMP:20260421T040949Z
LOCATION:
DESCRIPTION:Treffen Sie unsere Nationalräte und informieren Sie sich über die ne
SUMMARY:Politapéro/Sessionsrückblick
ORGANIZER:
URL;VALUE=URI:https://www.svp-wettingen.ch/termine/politapero-sessionsrueckblick-4/
TRANSP:OPAQUE
END:VEVENT
END:VCALENDAR
