BEGIN:VCALENDAR
VERSION:2.0
PRODID:-//SVP Wettingen //NONSGML Events //EN
CALSCALE:GREGORIAN
X-WR-CALNAME:SVP Wettingen
BEGIN:VEVENT
CREATED:20240809T143329Z
UID:2031
DTEND:20240831T140000
DTSTART:20240831T100000
DTSTAMP:20260421T025042Z
LOCATION:Dorfstr. 49\, 5430 Wettingen
DESCRIPTION:Für Verpflegung an der Dorfstrasse 49 ist gesorgt. Kommen Sie vorbei.
SUMMARY:Wahlauftakt der Grossratskanditaten SVP Wettingen
ORGANIZER:
URL;VALUE=URI:https://www.svp-wettingen.ch/termine/wahlauftakt-svp-wettingen/
TRANSP:OPAQUE
END:VEVENT
END:VCALENDAR
