BEGIN:VCALENDAR
VERSION:2.0
PRODID:-//SVP Wettingen //NONSGML Events //EN
CALSCALE:GREGORIAN
X-WR-CALNAME:SVP Wettingen
BEGIN:VEVENT
CREATED:20190208T073443Z
UID:618
DTEND:20231022T000000
DTSTART:20231022T000000
DTSTAMP:20260424T084538Z
LOCATION:
DESCRIPTION:
SUMMARY:Nationalratswahlen
ORGANIZER:
URL;VALUE=URI:https://www.svp-wettingen.ch/termine/nationalratswahlen-2/
TRANSP:OPAQUE
END:VEVENT
END:VCALENDAR
